BEGIN:VCALENDAR
VERSION:2.0
PRODID:-//eventon.com NONSGML v1.0//EN
BEGIN:VEVENT
UID:69e4d585838f5
DTSTAMP:20260419T151549
DTSTART:20221111
DTEND:20221111
TZID:Europe/Berlin
LOCATION:Hive Club Geroldstrasse 5\,  8005 Zürich\,  Switzerland
SUMMARY:HIVE CLUB
DESCRIPTION: HIVE CLUB\nhttps://undundbooking.de/events/hive-club-3/
URL:https://undundbooking.de/events/hive-club-3/
END:VEVENT
END:VCALENDAR