BEGIN:VCALENDAR
VERSION:2.0
PRODID:-//eventon.com NONSGML v1.0//EN
BEGIN:VEVENT
UID:69e8988e9629f
DTSTAMP:20260422T114446
DTSTART:20220812
DTEND:20220812
TZID:Europe/Berlin
LOCATION:Planten un Blomen Marseiller Straße\,  20355 Hamburg
SUMMARY:PLANTEN UN BLOMEN
DESCRIPTION: PLANTEN UN BLOMEN\nhttps://undundbooking.de/events/planten-un-blomen/
URL:https://undundbooking.de/events/planten-un-blomen/
END:VEVENT
END:VCALENDAR