BEGIN:VCALENDAR
VERSION:2.0
PRODID:-//eventon.com NONSGML v1.0//EN
BEGIN:VEVENT
UID:69ed7668d6ad6
DTSTAMP:20260426T042024
DTSTART:20220805
DTEND:20220805
TZID:CET
LOCATION:Silver & Smoke Zelenih beretki 12\,  Sarajevo 71000\,  Bosnien und Herzegowina
SUMMARY:SOUND BEYOND
DESCRIPTION: SOUND BEYOND\nhttps://undundbooking.de/events/sound-beyo/
URL:https://undundbooking.de/events/sound-beyo/
END:VEVENT
END:VCALENDAR