BEGIN:VCALENDAR
VERSION:2.0
PRODID:-//eventon.com NONSGML v1.0//EN
BEGIN:VEVENT
UID:69e88d1f6a909
DTSTAMP:20260422T105559
DTSTART:20210903
DTEND:20210904
TZID:Europe/Berlin
LOCATION:Zum Scheuen Reh Hans-Böckler-Platz 2\,  50672 Köln\,  Germany
SUMMARY:Zum Scheues Reh
DESCRIPTION: Zum Scheues Reh\nhttps://undundbooking.de/events/zum-scheues-reh/
URL:https://undundbooking.de/events/zum-scheues-reh/
END:VEVENT
END:VCALENDAR