BEGIN:VCALENDAR
VERSION:2.0
PRODID:-//eventon.com NONSGML v1.0//EN
BEGIN:VEVENT
UID:69e815d89332a
DTSTAMP:20260422T022704
DTSTART:20241018T074500Z
DTEND:20241018T074500Z
TZID:Europe/Berlin
LOCATION:Bahnwärter Thiel Tumblingerstraße 45\,  Munich\,  Germany
SUMMARY:BAHNWÄRTER GEBURTSTAG
DESCRIPTION: \nhttps://undundbooking.de/events/bahnwaerter-thiel-8/
URL:https://undundbooking.de/events/bahnwaerter-thiel-8/
END:VEVENT
END:VCALENDAR