BEGIN:VCALENDAR
VERSION:2.0
PRODID:-//eventon.com NONSGML v1.0//EN
BEGIN:VEVENT
UID:69e4d4e3d7ca4
DTSTAMP:20260419T151307
DTSTART:20240815T042300Z
DTEND:20240815T042300Z
TZID:Europe/Berlin
LOCATION:Regattabahn Fühlinger See - Zielturm\,  Oranjehofstraße 103\,  50769 Köln
SUMMARY:EAT PLAY LOVE FESTIVAL
DESCRIPTION: \nhttps://undundbooking.de/events/eat-play-love-festival-2/
URL:https://undundbooking.de/events/eat-play-love-festival-2/
END:VEVENT
END:VCALENDAR