BEGIN:VCALENDAR
VERSION:2.0
PRODID:-//eventon.com NONSGML v1.0//EN
BEGIN:VEVENT
UID:69e745d509872
DTSTAMP:20260421T113933
DTSTART:20241102T033300Z
DTEND:20241102T033300Z
TZID:Europe/Berlin
LOCATION:Museum Schnütgen\,  Cäcilienstr. 29-33\,  50667 Köln 
SUMMARY:MUSEUMSNACHT KÖLN
DESCRIPTION: \nhttps://undundbooking.de/events/museumsnacht-koeln-2/
URL:https://undundbooking.de/events/museumsnacht-koeln-2/
END:VEVENT
END:VCALENDAR