BEGIN:VCALENDAR
VERSION:2.0
PRODID:-//eventon.com NONSGML v1.0//EN
BEGIN:VEVENT
UID:69e73bcab35ca
DTSTAMP:20260421T105642
DTSTART:20230602
DTEND:20230603
TZID:Europe/Berlin
LOCATION:Lunatic Festival Universitätsallee 1\,  21335 Lüneburg
SUMMARY:LUNATIC FESTIVAL
DESCRIPTION: \nhttps://undundbooking.de/events/lunatic-festival/
URL:https://undundbooking.de/events/lunatic-festival/
END:VEVENT
END:VCALENDAR